BEGIN:VCALENDAR
VERSION:2.0
PRODID:-//Quinzaine franco-allemande - ECPv6.15.20//NONSGML v1.0//EN
CALSCALE:GREGORIAN
METHOD:PUBLISH
X-ORIGINAL-URL:https://15francoallemandeoccitanie.fr
X-WR-CALDESC:Évènements pour Quinzaine franco-allemande
REFRESH-INTERVAL;VALUE=DURATION:PT1H
X-Robots-Tag:noindex
X-PUBLISHED-TTL:PT1H
BEGIN:VTIMEZONE
TZID:Europe/Paris
BEGIN:DAYLIGHT
TZOFFSETFROM:+0100
TZOFFSETTO:+0200
TZNAME:CEST
DTSTART:20230326T010000
END:DAYLIGHT
BEGIN:STANDARD
TZOFFSETFROM:+0200
TZOFFSETTO:+0100
TZNAME:CET
DTSTART:20231029T010000
END:STANDARD
BEGIN:DAYLIGHT
TZOFFSETFROM:+0100
TZOFFSETTO:+0200
TZNAME:CEST
DTSTART:20240331T010000
END:DAYLIGHT
BEGIN:STANDARD
TZOFFSETFROM:+0200
TZOFFSETTO:+0100
TZNAME:CET
DTSTART:20241027T010000
END:STANDARD
BEGIN:DAYLIGHT
TZOFFSETFROM:+0100
TZOFFSETTO:+0200
TZNAME:CEST
DTSTART:20250330T010000
END:DAYLIGHT
BEGIN:STANDARD
TZOFFSETFROM:+0200
TZOFFSETTO:+0100
TZNAME:CET
DTSTART:20251026T010000
END:STANDARD
END:VTIMEZONE
BEGIN:VEVENT
DTSTART;TZID=Europe/Paris:20240320T180000
DTEND;TZID=Europe/Paris:20240320T200000
DTSTAMP:20260421T030438
CREATED:20240302T223000Z
LAST-MODIFIED:20240303T083158Z
UID:10000311-1710957600-1710964800@15francoallemandeoccitanie.fr
SUMMARY:40e anniversaire de l’ouverture du Centre culturel français - le 27 janvier 1984 à Berlin-Est
DESCRIPTION:Dans les années 80\, la RDA déploie toute son énergie pour se hisser dans la Cour des Grands sur la scène internationale. L’accord culturel signé en 1980 ouvre la voie à l’ouverture d’un centre culturel est-allemand à Paris en décembre 1983 et d’un centre culturel français le 27 janvier 1984 à Berlin-Est. \nC’était il y a 40 ans… Ces événements importants dans le contexte de la guerre froide sont maintenant largement oubliés. Jean-Louis Leprêtre\, Conseiller culturel à l’Ambassade de France près la RDA de 1983 à 1988\, fut l’un des acteurs de cette « aventure ». Il se propose de la conter en s’appuyant sur ses souvenirs\, les fruits de quelques recherches et autres photos et documents d’époque.
URL:https://15francoallemandeoccitanie.fr/evenement/40e-anniversaire-de-louverture-du-centre-culturel-francais-le-27-janvier-1984-a-berlin-est/
LOCATION:médiathèque de Uzès\, 41 le Portalet\, Uzès\, Occitanie\, 30700\, France
CATEGORIES:Culture,Présentiel
ATTACH;FMTTYPE=image/jpeg:https://15francoallemandeoccitanie.fr/wp-content/uploads/2024/03/40-ans-de-partenariart_creditmediathequede-uzes.jpg
GEO:44.0113722;4.4209118
X-APPLE-STRUCTURED-LOCATION;VALUE=URI;X-ADDRESS=médiathèque de Uzès 41 le Portalet Uzès Occitanie 30700 France;X-APPLE-RADIUS=500;X-TITLE=41 le Portalet:geo:4.4209118,44.0113722
END:VEVENT
END:VCALENDAR