BEGIN:VCALENDAR
VERSION:2.0
PRODID:-//Quinzaine franco-allemande - ECPv6.15.20//NONSGML v1.0//EN
CALSCALE:GREGORIAN
METHOD:PUBLISH
X-WR-CALNAME:Quinzaine franco-allemande
X-ORIGINAL-URL:https://15francoallemandeoccitanie.fr
X-WR-CALDESC:Évènements pour Quinzaine franco-allemande
REFRESH-INTERVAL;VALUE=DURATION:PT1H
X-Robots-Tag:noindex
X-PUBLISHED-TTL:PT1H
BEGIN:VTIMEZONE
TZID:Europe/Paris
BEGIN:DAYLIGHT
TZOFFSETFROM:+0100
TZOFFSETTO:+0200
TZNAME:CEST
DTSTART:20230326T010000
END:DAYLIGHT
BEGIN:STANDARD
TZOFFSETFROM:+0200
TZOFFSETTO:+0100
TZNAME:CET
DTSTART:20231029T010000
END:STANDARD
BEGIN:DAYLIGHT
TZOFFSETFROM:+0100
TZOFFSETTO:+0200
TZNAME:CEST
DTSTART:20240331T010000
END:DAYLIGHT
BEGIN:STANDARD
TZOFFSETFROM:+0200
TZOFFSETTO:+0100
TZNAME:CET
DTSTART:20241027T010000
END:STANDARD
BEGIN:DAYLIGHT
TZOFFSETFROM:+0100
TZOFFSETTO:+0200
TZNAME:CEST
DTSTART:20250330T010000
END:DAYLIGHT
BEGIN:STANDARD
TZOFFSETFROM:+0200
TZOFFSETTO:+0100
TZNAME:CET
DTSTART:20251026T010000
END:STANDARD
END:VTIMEZONE
BEGIN:VEVENT
DTSTART;TZID=Europe/Paris:20240406T210000
DTEND;TZID=Europe/Paris:20240406T230000
DTSTAMP:20260420T054506
CREATED:20240325T223714Z
LAST-MODIFIED:20240325T223714Z
UID:10000397-1712437200-1712444400@15francoallemandeoccitanie.fr
SUMMARY:Soirée allemande avec le trio berlinois B3 (jazz-rock)
DESCRIPTION:Concert du groupe allemand B3 à la galerie art Consortium avec une présentation de la scène musicale à Berlin.
URL:https://15francoallemandeoccitanie.fr/evenement/soiree-allemande-avec-le-trio-berlinois-b3-jazz-rock/
LOCATION:Arts Consortium\, 23 Rte de Puylaurens\, Blan\, 81700\, France
CATEGORIES:Culture,Présentiel
ATTACH;FMTTYPE=image/jpeg:https://15francoallemandeoccitanie.fr/wp-content/uploads/2024/03/2024_04_05-06_Trio_B3-jazz-rock-1.jpeg
GEO:43.529586;2.008445
X-APPLE-STRUCTURED-LOCATION;VALUE=URI;X-ADDRESS=Arts Consortium 23 Rte de Puylaurens Blan 81700 France;X-APPLE-RADIUS=500;X-TITLE=23 Rte de Puylaurens:geo:2.008445,43.529586
END:VEVENT
BEGIN:VEVENT
DTSTART;TZID=Europe/Paris:20240405T080000
DTEND;TZID=Europe/Paris:20240405T170000
DTSTAMP:20260420T054506
CREATED:20240325T125809Z
LAST-MODIFIED:20240325T125809Z
UID:10000385-1712304000-1712336400@15francoallemandeoccitanie.fr
SUMMARY:Concert avec le trio berlinois B3
DESCRIPTION:« Plus rock que le jazz\, plus jazzé que le rock »\nLe trio d’orgue berlinois B3 présente toujours des arrangements sophistiqués avec des mélodies fortes et mémorables et évolue musicalement entre le jazz\, le blues\, le rock et le funk.\nLiens:\nVideo Playlist: https://bit.ly/b3_videos\nSpotify: https://bit.ly/b3_musik\nWebsite: https://b3-berlin.com/\nFacebook: https://www.facebook.com/B3Berlin
URL:https://15francoallemandeoccitanie.fr/evenement/concert-avec-le-trio-berlinois-b3/
LOCATION:Jazz Club Croco bleu\, 135 ter Av. Franklin Roosevelt\, Carcassonne\, 11000\, France
CATEGORIES:Culture,Présentiel
ATTACH;FMTTYPE=image/jpeg:https://15francoallemandeoccitanie.fr/wp-content/uploads/2024/03/2024_04_05-06_Trio_B3-jazz-rock.jpeg
GEO:43.2210288;2.3385335
X-APPLE-STRUCTURED-LOCATION;VALUE=URI;X-ADDRESS=Jazz Club Croco bleu 135 ter Av. Franklin Roosevelt Carcassonne 11000 France;X-APPLE-RADIUS=500;X-TITLE=135 ter Av. Franklin Roosevelt:geo:2.3385335,43.2210288
END:VEVENT
BEGIN:VEVENT
DTSTART;TZID=Europe/Paris:20240404T180000
DTEND;TZID=Europe/Paris:20240404T200000
DTSTAMP:20260420T054506
CREATED:20240324T143853Z
LAST-MODIFIED:20240324T144128Z
UID:10000381-1712253600-1712260800@15francoallemandeoccitanie.fr
SUMMARY:Im Himmel gibts kein Bier. Drum trinken wir es hier
DESCRIPTION:Im Himmel gibts kein Bier. Drum trinken wir es hier \nIl n’y a pas de bière au paradis puisqu’on en boit ici Dégustation de bières et de vins allemands. Entrée: 5€ – Réservation: asitch@protonmail.com – 06 85 07 90 24
URL:https://15francoallemandeoccitanie.fr/evenement/im-himmel-gibts-kein-bier-drum-trinken-wir-es-hier/
LOCATION:Le Comptoir Bacchus\, Bd Denfert Rochereau\, Revel\, 31250\, France
CATEGORIES:Convivialité,Culture,Présentiel
ATTACH;FMTTYPE=image/jpeg:https://15francoallemandeoccitanie.fr/wp-content/uploads/2024/03/2024_04_04_Degustation-bieres_vins.jpeg
GEO:43.4577626;2.0017662
X-APPLE-STRUCTURED-LOCATION;VALUE=URI;X-ADDRESS=Le Comptoir Bacchus Bd Denfert Rochereau Revel 31250 France;X-APPLE-RADIUS=500;X-TITLE=Bd Denfert Rochereau:geo:2.0017662,43.4577626
END:VEVENT
END:VCALENDAR