BEGIN:VCALENDAR
VERSION:2.0
PRODID:-//Quinzaine franco-allemande - ECPv6.15.20//NONSGML v1.0//EN
CALSCALE:GREGORIAN
METHOD:PUBLISH
X-WR-CALNAME:Quinzaine franco-allemande
X-ORIGINAL-URL:https://15francoallemandeoccitanie.fr
X-WR-CALDESC:Évènements pour Quinzaine franco-allemande
REFRESH-INTERVAL;VALUE=DURATION:PT1H
X-Robots-Tag:noindex
X-PUBLISHED-TTL:PT1H
BEGIN:VTIMEZONE
TZID:Europe/Paris
BEGIN:DAYLIGHT
TZOFFSETFROM:+0100
TZOFFSETTO:+0200
TZNAME:CEST
DTSTART:20230326T010000
END:DAYLIGHT
BEGIN:STANDARD
TZOFFSETFROM:+0200
TZOFFSETTO:+0100
TZNAME:CET
DTSTART:20231029T010000
END:STANDARD
BEGIN:DAYLIGHT
TZOFFSETFROM:+0100
TZOFFSETTO:+0200
TZNAME:CEST
DTSTART:20240331T010000
END:DAYLIGHT
BEGIN:STANDARD
TZOFFSETFROM:+0200
TZOFFSETTO:+0100
TZNAME:CET
DTSTART:20241027T010000
END:STANDARD
BEGIN:DAYLIGHT
TZOFFSETFROM:+0100
TZOFFSETTO:+0200
TZNAME:CEST
DTSTART:20250330T010000
END:DAYLIGHT
BEGIN:STANDARD
TZOFFSETFROM:+0200
TZOFFSETTO:+0100
TZNAME:CET
DTSTART:20251026T010000
END:STANDARD
BEGIN:DAYLIGHT
TZOFFSETFROM:+0100
TZOFFSETTO:+0200
TZNAME:CEST
DTSTART:20260329T010000
END:DAYLIGHT
BEGIN:STANDARD
TZOFFSETFROM:+0200
TZOFFSETTO:+0100
TZNAME:CET
DTSTART:20261025T010000
END:STANDARD
END:VTIMEZONE
BEGIN:VEVENT
DTSTART;VALUE=DATE:20250327
DTEND;VALUE=DATE:20250328
DTSTAMP:20260423T120941
CREATED:20250302T121848Z
LAST-MODIFIED:20250303T122702Z
UID:10000462-1743033600-1743119999@15francoallemandeoccitanie.fr
SUMMARY:Théâtre linguistique en milieu scolaire - Intervention théâtrale en allemand
DESCRIPTION:3 jeunes comédiens natifs germanophones jouent tout d’abord un spectacle d’1H tout en allemand\, composé de 3 sketchs interactifs élaborés en accord avec la grille CECR (niveaux A1 à B1)\, devant tous les élèves germanistes.\nIls se répartissent ensuite l’effectif en 3 groupes\, pour réaliser simultanément chacun 1H d’ateliers ludiques également tout en allemand\, qui reprennent notamment le vocabulaire abordé pendant le spectacle. Les ateliers se concluent par un temps d’échange libre et informel\, toujours en allemand\, de type « questions & réponses »  \n9h00-12h00 : Collège Jean Racine\n14h00-17h00 : Collège Alphonse Daudet
URL:https://15francoallemandeoccitanie.fr/evenement/theatre-linguistique-en-milieu-scolaire-intervention-theatrale-en-allemand/
LOCATION:Collège Jean Racine\, 9\, rue Joseph Vernet\, Alès\, 30100\, France
CATEGORIES:Éducation,Présentiel
ORGANIZER;CN="Coll%C3%A8ge Jean Racine - Al%C3%A8s":MAILTO:ce.0300949u@ac-montpellier.fr
GEO:44.1307474;4.0930476
X-APPLE-STRUCTURED-LOCATION;VALUE=URI;X-ADDRESS=Collège Jean Racine 9 rue Joseph Vernet Alès 30100 France;X-APPLE-RADIUS=500;X-TITLE=9\, rue Joseph Vernet:geo:4.0930476,44.1307474
END:VEVENT
BEGIN:VEVENT
DTSTART;TZID=Europe/Paris:20240325T080000
DTEND;TZID=Europe/Paris:20240325T170000
DTSTAMP:20260423T120941
CREATED:20240316T170329Z
LAST-MODIFIED:20240316T170329Z
UID:10000352-1711353600-1711386000@15francoallemandeoccitanie.fr
SUMMARY:Projection du fim Derrière le Mur\, la Californie
DESCRIPTION:Dans le cadre du Festival Cinéma d’Alès\, projection du Docu-Fiction « Derrière le mur\, la Californie réalisé par Marten Persiel. \n« Alors qu’une vieille bande d’ami·es se réunit suite au décès de Dennis\, plus connu sous le nom de « Panik »\, ils se  remémorent une époque douce-amère où ils bravaient les interdits de la RDA pour assouvir leur passion : le skateboard. Le film nous transporte dans le Berlin-Est des années 70 à la chute du Mur. Entre fantasme et réalité\, Marten Persiel nous emmène non sans mélancolie dans une époque révolue où chaque jour était une aventure. Un savant mélange d’archives\, de reconstitution et d’animation nous donne à voir une ville et des personnages hauts en couleurs\, d’une complexité au moins égale à la situation politique de cette époque.  \nFinalement\, c’est la passion et cette soif de liberté qui l’emportent dans ce film qui fait preuve d’une folie créative\, narrative et formelle unique et si enthousiasmante.\nLes élèves germanistes du collège Alphonse Daudet iront voir ce film avec leur professeur Sofie COZAR GARCIA\, le lundi 25 mars.\nEn classe\, les élèves ont été préparés à le voir au cours d’une séquence sur la culture et l’histoire de Berlin.
URL:https://15francoallemandeoccitanie.fr/evenement/projection-du-fim-derriere-le-mur-la-californie/
LOCATION:collège Alphonse Daudet\, 4 av Paul Langevin\, Ales\, Occitanie\, 30100\, France
CATEGORIES:Éducation,Présentiel
ATTACH;FMTTYPE=image/png:https://15francoallemandeoccitanie.fr/wp-content/uploads/2024/03/2024_03_25_Itinerances_Derriere-le-Mur_Californie.png
GEO:44.1354048;4.0857576
X-APPLE-STRUCTURED-LOCATION;VALUE=URI;X-ADDRESS=collège Alphonse Daudet 4 av Paul Langevin Ales Occitanie 30100 France;X-APPLE-RADIUS=500;X-TITLE=4 av Paul Langevin:geo:4.0857576,44.1354048
END:VEVENT
END:VCALENDAR