BEGIN:VCALENDAR
VERSION:2.0
PRODID:-//Quinzaine franco-allemande - ECPv6.15.20//NONSGML v1.0//EN
CALSCALE:GREGORIAN
METHOD:PUBLISH
X-WR-CALNAME:Quinzaine franco-allemande
X-ORIGINAL-URL:https://15francoallemandeoccitanie.fr
X-WR-CALDESC:Évènements pour Quinzaine franco-allemande
REFRESH-INTERVAL;VALUE=DURATION:PT1H
X-Robots-Tag:noindex
X-PUBLISHED-TTL:PT1H
BEGIN:VTIMEZONE
TZID:Europe/Paris
BEGIN:DAYLIGHT
TZOFFSETFROM:+0100
TZOFFSETTO:+0200
TZNAME:CEST
DTSTART:20240331T010000
END:DAYLIGHT
BEGIN:STANDARD
TZOFFSETFROM:+0200
TZOFFSETTO:+0100
TZNAME:CET
DTSTART:20241027T010000
END:STANDARD
BEGIN:DAYLIGHT
TZOFFSETFROM:+0100
TZOFFSETTO:+0200
TZNAME:CEST
DTSTART:20250330T010000
END:DAYLIGHT
BEGIN:STANDARD
TZOFFSETFROM:+0200
TZOFFSETTO:+0100
TZNAME:CET
DTSTART:20251026T010000
END:STANDARD
BEGIN:DAYLIGHT
TZOFFSETFROM:+0100
TZOFFSETTO:+0200
TZNAME:CEST
DTSTART:20260329T010000
END:DAYLIGHT
BEGIN:STANDARD
TZOFFSETFROM:+0200
TZOFFSETTO:+0100
TZNAME:CET
DTSTART:20261025T010000
END:STANDARD
END:VTIMEZONE
BEGIN:VEVENT
DTSTART;VALUE=DATE:20250328
DTEND;VALUE=DATE:20250329
DTSTAMP:20260420T083111
CREATED:20250304T235156Z
LAST-MODIFIED:20250304T235156Z
UID:10000471-1743120000-1743206399@15francoallemandeoccitanie.fr
SUMMARY:Théâtre avec la troupe de théâtre linguistique "Ma langue au chat"
DESCRIPTION:Les élèves germanistes des classes de 4e et 3e auront la chance de participer à une expérience originale : une heure de représentation théâtrale suivie d’une heure d’ateliers interactifs avec la troupe de la compagnie « Ma Langue au Chat » composée de trois comédiens germanophones.\nCet événement permettra de découvrir la langue et la culture allemande de manière ludique et immersive et témoigne de l’engagement de ces établissements et enseignants pour l’apprentissage des langues. \nOrganisateurs : \nCollège Bernard de Ventadour\nCollège Gérard Philipe\nCollège Le Bosquet\nà Bagnols-sur-Cèze
URL:https://15francoallemandeoccitanie.fr/evenement/theatre-avec-la-troupe-de-theatre-linguistique-ma-langue-au-chat/
LOCATION:Collège Gérard Philipe\, 17 avenue Léon Blum\, Bagnols sur Cèze\, 30200\, France
CATEGORIES:Éducation,Présentiel
ATTACH;FMTTYPE=image/jpeg:https://15francoallemandeoccitanie.fr/wp-content/uploads/2025/03/2025_03_28_Theatre-linguistique_Langue_chat.jpg
GEO:44.1622873;4.6168324
X-APPLE-STRUCTURED-LOCATION;VALUE=URI;X-ADDRESS=Collège Gérard Philipe 17 avenue Léon Blum Bagnols sur Cèze 30200 France;X-APPLE-RADIUS=500;X-TITLE=17 avenue Léon Blum:geo:4.6168324,44.1622873
END:VEVENT
END:VCALENDAR