BEGIN:VCALENDAR
VERSION:2.0
PRODID:-//Quinzaine franco-allemande - ECPv6.15.20//NONSGML v1.0//EN
CALSCALE:GREGORIAN
METHOD:PUBLISH
X-WR-CALNAME:Quinzaine franco-allemande
X-ORIGINAL-URL:https://15francoallemandeoccitanie.fr
X-WR-CALDESC:Évènements pour Quinzaine franco-allemande
REFRESH-INTERVAL;VALUE=DURATION:PT1H
X-Robots-Tag:noindex
X-PUBLISHED-TTL:PT1H
BEGIN:VTIMEZONE
TZID:Europe/Paris
BEGIN:DAYLIGHT
TZOFFSETFROM:+0100
TZOFFSETTO:+0200
TZNAME:CEST
DTSTART:20230326T010000
END:DAYLIGHT
BEGIN:STANDARD
TZOFFSETFROM:+0200
TZOFFSETTO:+0100
TZNAME:CET
DTSTART:20231029T010000
END:STANDARD
BEGIN:DAYLIGHT
TZOFFSETFROM:+0100
TZOFFSETTO:+0200
TZNAME:CEST
DTSTART:20240331T010000
END:DAYLIGHT
BEGIN:STANDARD
TZOFFSETFROM:+0200
TZOFFSETTO:+0100
TZNAME:CET
DTSTART:20241027T010000
END:STANDARD
BEGIN:DAYLIGHT
TZOFFSETFROM:+0100
TZOFFSETTO:+0200
TZNAME:CEST
DTSTART:20250330T010000
END:DAYLIGHT
BEGIN:STANDARD
TZOFFSETFROM:+0200
TZOFFSETTO:+0100
TZNAME:CET
DTSTART:20251026T010000
END:STANDARD
END:VTIMEZONE
BEGIN:VEVENT
DTSTART;TZID=Europe/Paris:20240318T080000
DTEND;TZID=Europe/Paris:20240323T170000
DTSTAMP:20260424T145851
CREATED:20240316T155031Z
LAST-MODIFIED:20240316T155031Z
UID:10000344-1710748800-1711213200@15francoallemandeoccitanie.fr
SUMMARY:Promotion de l’allemand\, section bi-langue collège Diderot\, Alès
DESCRIPTION:Au cours de la semaine des langues\, les élèves germanistes du collège Diderot d’Alès iront à la rencontre de 2 classes de CM2 des écoles du secteur afin de promouvoir l’apprentissage de l’allemand dès la 6e\, en section bi-langues (allemand/anglais). Ce projet s’inscrit dans le cadre de la liaison inter-établissements école-collège pour assurer la continuité et la fluidité des parcours scolaires. Les conditions de l’apprentissage de l’allemand sont particulièrement intéressantes : Petits effectifs\, voyages scolaires en Allemagne et échanges avec des correspondants allemands. \nLes élèves germanistes de la 6e à la 3e sont également inscrits dans le parcours d’excellence « Eurolangue » où\, à côté de leurs 2 langues vivantes\, ils appréhendent aussi l’espagnol dans des scénarios qui les incitent à mettre en œuvre et à développer leurs compétences langagières notamment à l’oral. \nAu programme de ces rencontres avec les élèves de Cm2:\nUn diaporama\, un atelier jeux pour des débutants en allemand\, les brochures « L’Allemand t’attend ! » du Goethe-Institut Paris et une lettre destinée aux familles.
URL:https://15francoallemandeoccitanie.fr/evenement/promotion-de-lallemand-section-bi-langue-college-diderot-ales/
LOCATION:Ecole primaire de St Jean du Pin\, 471 Av. Jean Rampon\, ST Jean du pin\, Occitanie\, 30140\, France
CATEGORIES:Éducation,Présentiel
ATTACH;FMTTYPE=image/jpeg:https://15francoallemandeoccitanie.fr/wp-content/uploads/2024/03/pexels-mary-taylor-5896670-scaled.jpg
GEO:44.1149875;4.0500934
X-APPLE-STRUCTURED-LOCATION;VALUE=URI;X-ADDRESS=Ecole primaire de St Jean du Pin 471 Av. Jean Rampon ST Jean du pin Occitanie 30140 France;X-APPLE-RADIUS=500;X-TITLE=471 Av. Jean Rampon:geo:4.0500934,44.1149875
END:VEVENT
END:VCALENDAR