BEGIN:VCALENDAR
VERSION:2.0
PRODID:-//Quinzaine franco-allemande - ECPv6.15.20//NONSGML v1.0//EN
CALSCALE:GREGORIAN
METHOD:PUBLISH
X-WR-CALNAME:Quinzaine franco-allemande
X-ORIGINAL-URL:https://15francoallemandeoccitanie.fr
X-WR-CALDESC:Évènements pour Quinzaine franco-allemande
REFRESH-INTERVAL;VALUE=DURATION:PT1H
X-Robots-Tag:noindex
X-PUBLISHED-TTL:PT1H
BEGIN:VTIMEZONE
TZID:Europe/Paris
BEGIN:DAYLIGHT
TZOFFSETFROM:+0100
TZOFFSETTO:+0200
TZNAME:CEST
DTSTART:20230326T010000
END:DAYLIGHT
BEGIN:STANDARD
TZOFFSETFROM:+0200
TZOFFSETTO:+0100
TZNAME:CET
DTSTART:20231029T010000
END:STANDARD
BEGIN:DAYLIGHT
TZOFFSETFROM:+0100
TZOFFSETTO:+0200
TZNAME:CEST
DTSTART:20240331T010000
END:DAYLIGHT
BEGIN:STANDARD
TZOFFSETFROM:+0200
TZOFFSETTO:+0100
TZNAME:CET
DTSTART:20241027T010000
END:STANDARD
BEGIN:DAYLIGHT
TZOFFSETFROM:+0100
TZOFFSETTO:+0200
TZNAME:CEST
DTSTART:20250330T010000
END:DAYLIGHT
BEGIN:STANDARD
TZOFFSETFROM:+0200
TZOFFSETTO:+0100
TZNAME:CET
DTSTART:20251026T010000
END:STANDARD
END:VTIMEZONE
BEGIN:VEVENT
DTSTART;VALUE=DATE:20240321
DTEND;VALUE=DATE:20240322
DTSTAMP:20260424T211933
CREATED:20240303T085123Z
LAST-MODIFIED:20240303T085123Z
UID:10000312-1710979200-1711065599@15francoallemandeoccitanie.fr
SUMMARY:Réalisation d’un puzzle géant autour de l’Amitié franco-allemande
DESCRIPTION:Dans le cadre de la liaison école/ collège et de la célébration de l’anniversaire du Traité de L’Elysée\, les élèves germanistes du collège Jules Verne vont mener plusieurs ateliers auprès des élèves de CM2 de l’école de Montlegun. \nAprès avoir découvert les liens qui unissent la France et L’Allemagne sous forme de quiz\, de jeux\, de résolutions d’énigmes\, les élèves du primaire réaliseront avec leurs camarades du collège un puzzle géant\, où chacun aura illustré sur une pièce du puzzle\, à sa façon\, l’amitié franco- allemande.
URL:https://15francoallemandeoccitanie.fr/evenement/realisation-dun-puzzle-geant-autour-de-lamitie-franco-allemande/
LOCATION:École Primaire Jean Beaubois\, 7 Rue de Sabladou\, Carcassonne\, Occitanie\, 11000\, France
CATEGORIES:Éducation,Présentiel
ATTACH;FMTTYPE=image/jpeg:https://15francoallemandeoccitanie.fr/wp-content/uploads/2024/03/pexels-anthony-beck-4278035-scaled.jpg
GEO:43.2020809;2.3950368
X-APPLE-STRUCTURED-LOCATION;VALUE=URI;X-ADDRESS=École Primaire Jean Beaubois 7 Rue de Sabladou Carcassonne Occitanie 11000 France;X-APPLE-RADIUS=500;X-TITLE=7 Rue de Sabladou:geo:2.3950368,43.2020809
END:VEVENT
END:VCALENDAR