BEGIN:VCALENDAR
VERSION:2.0
PRODID:-//Quinzaine franco-allemande - ECPv6.15.20//NONSGML v1.0//EN
CALSCALE:GREGORIAN
METHOD:PUBLISH
X-WR-CALNAME:Quinzaine franco-allemande
X-ORIGINAL-URL:https://15francoallemandeoccitanie.fr
X-WR-CALDESC:Évènements pour Quinzaine franco-allemande
REFRESH-INTERVAL;VALUE=DURATION:PT1H
X-Robots-Tag:noindex
X-PUBLISHED-TTL:PT1H
BEGIN:VTIMEZONE
TZID:Europe/Paris
BEGIN:DAYLIGHT
TZOFFSETFROM:+0100
TZOFFSETTO:+0200
TZNAME:CEST
DTSTART:20230326T010000
END:DAYLIGHT
BEGIN:STANDARD
TZOFFSETFROM:+0200
TZOFFSETTO:+0100
TZNAME:CET
DTSTART:20231029T010000
END:STANDARD
BEGIN:DAYLIGHT
TZOFFSETFROM:+0100
TZOFFSETTO:+0200
TZNAME:CEST
DTSTART:20240331T010000
END:DAYLIGHT
BEGIN:STANDARD
TZOFFSETFROM:+0200
TZOFFSETTO:+0100
TZNAME:CET
DTSTART:20241027T010000
END:STANDARD
BEGIN:DAYLIGHT
TZOFFSETFROM:+0100
TZOFFSETTO:+0200
TZNAME:CEST
DTSTART:20250330T010000
END:DAYLIGHT
BEGIN:STANDARD
TZOFFSETFROM:+0200
TZOFFSETTO:+0100
TZNAME:CET
DTSTART:20251026T010000
END:STANDARD
BEGIN:DAYLIGHT
TZOFFSETFROM:+0100
TZOFFSETTO:+0200
TZNAME:CEST
DTSTART:20260329T010000
END:DAYLIGHT
BEGIN:STANDARD
TZOFFSETFROM:+0200
TZOFFSETTO:+0100
TZNAME:CET
DTSTART:20261025T010000
END:STANDARD
END:VTIMEZONE
BEGIN:VEVENT
DTSTART;VALUE=DATE:20250402
DTEND;VALUE=DATE:20250412
DTSTAMP:20260419T210344
CREATED:20250328T141917Z
LAST-MODIFIED:20250331T061706Z
UID:10000947-1743552000-1744415999@15francoallemandeoccitanie.fr
SUMMARY:Échange Mende-Wunsiedel
DESCRIPTION:En lien avec les mairies\, les comités de jumelage et les trois lycées publics des deux villes\, deux semaines d’échange franco-allemand en immersion en famille sont organisées cette année. Les 27 lycéens français et leurs accompagnatrices partiront en bus à Wunsiedel du 2 au 11 avril 2025. Leurs homologues allemands seront reçus du 15 au 22 mai 2025. Outre la pratique de la langue\, la découverte de la région\, de la culture et des habitudes de vie de la famille d’accueil\, les élèves franco-allemands participeront à divers activités et sorties pédagogiques ensemble : visite géographique\, culturelle et sociale de la ville\, de la mairie et du comité de jumelage\, participation aux cours de leurs correspondants\, visite des villes de Weimar et son musée Bauhaus\, de Regensburg\, Bamberg et Bayreuth.\nPour le groupe allemand\, nous organisons une journée à Montpellier et ses environs (plage) et une journée dans les Gorges du Tarn avec la visite de l’Aven Armand.
URL:https://15francoallemandeoccitanie.fr/evenement/echange-mende-wunsiedel/
LOCATION:48000 Mende\, Mende\, 48000\, France
CATEGORIES:Citoyenneté,Convivialité,Culture,Éducation,Jeunesse,Présentiel,Présentiel,Présentiel
ATTACH;FMTTYPE=image/jpeg:https://15francoallemandeoccitanie.fr/wp-content/uploads/2025/03/2025_04_02-11_Mende_Wunsiedel-1-scaled.jpg
GEO:44.5179297;3.5014879
END:VEVENT
BEGIN:VEVENT
DTSTART;TZID=Europe/Paris:20240403T173000
DTEND;TZID=Europe/Paris:20240403T173000
DTSTAMP:20260419T210344
CREATED:20240324T120542Z
LAST-MODIFIED:20240324T120935Z
UID:10000376-1712165400-1712165400@15francoallemandeoccitanie.fr
SUMMARY:Conférence de S. BAYLE "Quelques aspects du romantisme allemand à travers l'œuvre de Caspar David Friedrich"
DESCRIPTION:Une conférence proposée le mercredi 3 avril sur l’oeuvre du maître de la peinture romantique allemande\, Caspar David Friedrich (1774-1840)\, l’occasion d’en découvrir davantage sur sa vie \, les tragédies qui l’ont marqué et transparaissent dans son oeuvre\, on parcours artistique\, évoquer naturellement ses peintures célèbres telles que Le Voyageur contemplant une mer de nuages (1818) ou encore La Mer de glace (1823-1824) mais aussi d’autres tableaux tout aussi passionnants. \nIllustration: © Caspar David Friedrich – Wanderer über dem Nebelmeer – Le voyageur contemplant une mer de nuages (1818)
URL:https://15francoallemandeoccitanie.fr/evenement/conference-de-s-bayle-quelques-aspects-du-romantisme-allemand-a-travers-loeuvre-de-caspar-david-friedrich/
LOCATION:Salle Jean Jaurès\, 10 rue Charles Morel\, Mende\, 48000\, France
CATEGORIES:Culture,Présentiel
ATTACH;FMTTYPE=image/jpeg:https://15francoallemandeoccitanie.fr/wp-content/uploads/2024/03/2024_04_03_Conference_caspar-david-friedrich.jpg
GEO:44.517282;3.4928406
X-APPLE-STRUCTURED-LOCATION;VALUE=URI;X-ADDRESS=Salle Jean Jaurès 10 rue Charles Morel Mende 48000 France;X-APPLE-RADIUS=500;X-TITLE=10 rue Charles Morel:geo:3.4928406,44.517282
END:VEVENT
BEGIN:VEVENT
DTSTART;TZID=Europe/Paris:20240328T201500
DTEND;TZID=Europe/Paris:20240328T220000
DTSTAMP:20260419T210344
CREATED:20240317T120806Z
LAST-MODIFIED:20240317T120806Z
UID:10000361-1711656900-1711663200@15francoallemandeoccitanie.fr
SUMMARY:Soirée ciné-club :  Le ciel rouge de Christian Petzold (2023)
DESCRIPTION:Une projection du film « Le ciel rouge » est organisée le 28.03.2024 à 20H15 au Cinéma Le Trianon.  \nLe Ciel rouge (Roter Himmel) est un film allemand réalisé par Christian Petzold\, sorti en 2023. Comédie dramatique avec Thomas Schubert\, Paula Beer\, Langston Uibel.  \nUne petite maison de vacances au bord de la mer Baltique.\nLes journées sont chaudes et il n’a pas plu depuis des semaines. Quatre jeunes gens se réunissent\, des amis anciens et nouveaux. Les forêts desséchées qui les entourent commencent à s’enflammer\, tout comme leurs émotions. Le bonheur\, la luxure et l’amour\, mais aussi les jalousies\, les rancœurs et les tensions. Pendant ce temps\, les forêts brûlent. Et très vite\, les flammes sont là \nLa projection sera suivie d’un débat.
URL:https://15francoallemandeoccitanie.fr/evenement/soiree-cine-club-le-ciel-rouge-de-christian-petzold-2023/
LOCATION:Cinéma le trianon\, 5B Bd Lucien Arnault\, Mende\, Occitanie\, 48000\, France
CATEGORIES:Culture,Présentiel
ATTACH;FMTTYPE=image/webp:https://15francoallemandeoccitanie.fr/wp-content/uploads/2024/03/le-ciel-rouge.webp
GEO:44.5191656;3.4999042
X-APPLE-STRUCTURED-LOCATION;VALUE=URI;X-ADDRESS=Cinéma le trianon 5B Bd Lucien Arnault Mende Occitanie 48000 France;X-APPLE-RADIUS=500;X-TITLE=5B Bd Lucien Arnault:geo:3.4999042,44.5191656
END:VEVENT
BEGIN:VEVENT
DTSTART;VALUE=DATE:20240325
DTEND;VALUE=DATE:20240408
DTSTAMP:20260419T210344
CREATED:20240316T171946Z
LAST-MODIFIED:20240316T171946Z
UID:10000353-1711324800-1712534399@15francoallemandeoccitanie.fr
SUMMARY:Exposition rétrospective sur l'activité du Comité de Jumelage Mende-Wunsiedel
DESCRIPTION:Exposition rétrospective sur l’activité du Comité de Jumelage Mende-Wunsiedel réalisée pour la célébration des 40 ans du jumelage Mende-Wunsiedel. \nUn vernissage aura lieu le 29 Mars à 18h00
URL:https://15francoallemandeoccitanie.fr/evenement/exposition-retrospective-sur-lactivite-du-comite-de-jumelage-mende-wunsiedel/
LOCATION:Bibliothèque Lamartine\, 2 Pl. du Foirail\, Mende\, Occitanie\, 48000\, France
CATEGORIES:Citoyenneté,Présentiel
ATTACH;FMTTYPE=image/jpeg:https://15francoallemandeoccitanie.fr/wp-content/uploads/2024/03/mediatheque-lamartine-mende1.jpg
GEO:44.5158182;3.4992003
X-APPLE-STRUCTURED-LOCATION;VALUE=URI;X-ADDRESS=Bibliothèque Lamartine 2 Pl. du Foirail Mende Occitanie 48000 France;X-APPLE-RADIUS=500;X-TITLE=2 Pl. du Foirail:geo:3.4992003,44.5158182
END:VEVENT
END:VCALENDAR