BEGIN:VCALENDAR
VERSION:2.0
PRODID:-//Quinzaine franco-allemande - ECPv6.15.20//NONSGML v1.0//EN
CALSCALE:GREGORIAN
METHOD:PUBLISH
X-ORIGINAL-URL:https://15francoallemandeoccitanie.fr
X-WR-CALDESC:Évènements pour Quinzaine franco-allemande
REFRESH-INTERVAL;VALUE=DURATION:PT1H
X-Robots-Tag:noindex
X-PUBLISHED-TTL:PT1H
BEGIN:VTIMEZONE
TZID:Europe/Paris
BEGIN:DAYLIGHT
TZOFFSETFROM:+0100
TZOFFSETTO:+0200
TZNAME:CEST
DTSTART:20230326T010000
END:DAYLIGHT
BEGIN:STANDARD
TZOFFSETFROM:+0200
TZOFFSETTO:+0100
TZNAME:CET
DTSTART:20231029T010000
END:STANDARD
BEGIN:DAYLIGHT
TZOFFSETFROM:+0100
TZOFFSETTO:+0200
TZNAME:CEST
DTSTART:20240331T010000
END:DAYLIGHT
BEGIN:STANDARD
TZOFFSETFROM:+0200
TZOFFSETTO:+0100
TZNAME:CET
DTSTART:20241027T010000
END:STANDARD
BEGIN:DAYLIGHT
TZOFFSETFROM:+0100
TZOFFSETTO:+0200
TZNAME:CEST
DTSTART:20250330T010000
END:DAYLIGHT
BEGIN:STANDARD
TZOFFSETFROM:+0200
TZOFFSETTO:+0100
TZNAME:CET
DTSTART:20251026T010000
END:STANDARD
END:VTIMEZONE
BEGIN:VEVENT
DTSTART;TZID=Europe/Paris:20240420T210000
DTEND;TZID=Europe/Paris:20240420T220000
DTSTAMP:20260424T125153
CREATED:20240316T152145Z
LAST-MODIFIED:20240325T145859Z
UID:10000329-1713646800-1713650400@15francoallemandeoccitanie.fr
SUMMARY:DEF – le caméléon zébré présente KUM GESELLIN/ VIENS\, MA DOUCE COMPAGNE!
DESCRIPTION:KUM GESELLIN/VIENS\, MA DOUCE COMPAGNE!\nCette première création du trio explore la fusion musicale et poétique entre les cultures germaniques et occitanes .  \nUn programme sans œillères en cours de création\, qui ne s’interdit ni les mélodies simples des chansons pour enfants\, ni l’improvisation\, ni les musiques dites savantes.\nLa rencontre entre les trois instrumentistes\, avec des compositions et arrangements originaux\, promet d’être explosive. Car ces trois musiciens ne sont pas simplement amoureux de la “belle musique”\, des mélodies envoûtantes ou des rythmes endiablés\, ils ont aussi en commun une énergie de joie et d’amour qu’ils communiquent au public. \nD’où le titre de leur premier programme « Kum Gesellin ! – Viens\, compagne ! » \nDEF – Le Caméléon Zébré/ Das Streifenchamäleon\nDidier DULIEUX : accordina\, composition et arrangement\nEva HAHN : flûte traversière et flûtes diverses\, ukulélé\, chant et composition\nFred BAMBOU : percussions issues de la « lutherie sauvage »\, chant et composition
URL:https://15francoallemandeoccitanie.fr/evenement/def-le-cameleon-zebre-presente-kum-gesellin-viens-compagne/
CATEGORIES:Culture,Présentiel
ATTACH;FMTTYPE=image/jpeg:https://15francoallemandeoccitanie.fr/wp-content/uploads/2024/03/1707476797304-scaled.jpg
ORGANIZER;CN="Compagnie du Coq %C3%A0 l'%C3%82ne":MAILTO:coqalanecie@gmail.com
END:VEVENT
END:VCALENDAR