BEGIN:VCALENDAR
VERSION:2.0
PRODID:-//Quinzaine franco-allemande - ECPv6.15.20//NONSGML v1.0//EN
CALSCALE:GREGORIAN
METHOD:PUBLISH
X-WR-CALNAME:Quinzaine franco-allemande
X-ORIGINAL-URL:https://15francoallemandeoccitanie.fr
X-WR-CALDESC:Évènements pour Quinzaine franco-allemande
REFRESH-INTERVAL;VALUE=DURATION:PT1H
X-Robots-Tag:noindex
X-PUBLISHED-TTL:PT1H
BEGIN:VTIMEZONE
TZID:Europe/Paris
BEGIN:DAYLIGHT
TZOFFSETFROM:+0100
TZOFFSETTO:+0200
TZNAME:CEST
DTSTART:20230326T010000
END:DAYLIGHT
BEGIN:STANDARD
TZOFFSETFROM:+0200
TZOFFSETTO:+0100
TZNAME:CET
DTSTART:20231029T010000
END:STANDARD
BEGIN:DAYLIGHT
TZOFFSETFROM:+0100
TZOFFSETTO:+0200
TZNAME:CEST
DTSTART:20240331T010000
END:DAYLIGHT
BEGIN:STANDARD
TZOFFSETFROM:+0200
TZOFFSETTO:+0100
TZNAME:CET
DTSTART:20241027T010000
END:STANDARD
BEGIN:DAYLIGHT
TZOFFSETFROM:+0100
TZOFFSETTO:+0200
TZNAME:CEST
DTSTART:20250330T010000
END:DAYLIGHT
BEGIN:STANDARD
TZOFFSETFROM:+0200
TZOFFSETTO:+0100
TZNAME:CET
DTSTART:20251026T010000
END:STANDARD
END:VTIMEZONE
BEGIN:VEVENT
DTSTART;TZID=Europe/Paris:20240318T090000
DTEND;TZID=Europe/Paris:20240318T120000
DTSTAMP:20260424T172047
CREATED:20240302T215804Z
LAST-MODIFIED:20240302T215804Z
UID:10000232-1710752400-1710763200@15francoallemandeoccitanie.fr
SUMMARY:MATINEE ALLEMANDE à la maternelle (Projet Elysée)
DESCRIPTION:L’école maternelle est dorénavant labélisée Elysée.   \nCe projet\, centré autour de la découverte de la langue allemande\, a nécessité deux demi-journées de formation en préparation pour tous les enseignants de la maternelle (fléchés allemands et non fléchés).\nL’objectif de ce projet est d’immerger nos jeunes élèves (PS MS GS) dans la richesse de la culture allemande tout en mettant en lumière l’importance de l’apprentissage de la langue allemande dès le plus jeune âge. \nCe jour-là\, tous les élèves de l’école maternelle seront mobilisés pour participer à une série d’activités créatives et ludiques liées à la langue allemande. Pour rendre cette expérience encore plus mémorable\, nos élèves collaboreront avec des classes de cycle 3\, établissant ainsi des liens inter-âges et favorisant un environnement d’apprentissage stimulant. \nLes activités auront lieu tout au long de la matinée et consisteront en des ateliers variés\, allant de jeux de vocabulaire et de chansons à des projets artistiques en lien avec la culture allemande. Cette initiative vise à susciter l’intérêt des enfants pour la langue allemande tout en renforçant les liens intergénérationnels au sein de notre école.
URL:https://15francoallemandeoccitanie.fr/evenement/matinee-allemande-a-la-maternelle-projet-elysee/
LOCATION:ECOLE FRANK DICKENS\, 686 AV DU PONT TRINQUAT\, MONTPELLIER\, Sélectionner un État :\, 34070\, France
CATEGORIES:Éducation,Présentiel
ATTACH;FMTTYPE=image/jpeg:https://15francoallemandeoccitanie.fr/wp-content/uploads/2024/01/pexels-pavel-danilyuk-8422249-scaled.jpg
GEO:43.5966815;3.891565
X-APPLE-STRUCTURED-LOCATION;VALUE=URI;X-ADDRESS=ECOLE FRANK DICKENS 686 AV DU PONT TRINQUAT MONTPELLIER Sélectionner un État : 34070 France;X-APPLE-RADIUS=500;X-TITLE=686 AV DU PONT TRINQUAT:geo:3.891565,43.5966815
END:VEVENT
END:VCALENDAR