BEGIN:VCALENDAR
VERSION:2.0
PRODID:-//Quinzaine franco-allemande - ECPv6.15.20//NONSGML v1.0//EN
CALSCALE:GREGORIAN
METHOD:PUBLISH
X-WR-CALNAME:Quinzaine franco-allemande
X-ORIGINAL-URL:https://15francoallemandeoccitanie.fr
X-WR-CALDESC:Évènements pour Quinzaine franco-allemande
REFRESH-INTERVAL;VALUE=DURATION:PT1H
X-Robots-Tag:noindex
X-PUBLISHED-TTL:PT1H
BEGIN:VTIMEZONE
TZID:Europe/Paris
BEGIN:DAYLIGHT
TZOFFSETFROM:+0100
TZOFFSETTO:+0200
TZNAME:CEST
DTSTART:20240331T010000
END:DAYLIGHT
BEGIN:STANDARD
TZOFFSETFROM:+0200
TZOFFSETTO:+0100
TZNAME:CET
DTSTART:20241027T010000
END:STANDARD
BEGIN:DAYLIGHT
TZOFFSETFROM:+0100
TZOFFSETTO:+0200
TZNAME:CEST
DTSTART:20250330T010000
END:DAYLIGHT
BEGIN:STANDARD
TZOFFSETFROM:+0200
TZOFFSETTO:+0100
TZNAME:CET
DTSTART:20251026T010000
END:STANDARD
BEGIN:DAYLIGHT
TZOFFSETFROM:+0100
TZOFFSETTO:+0200
TZNAME:CEST
DTSTART:20260329T010000
END:DAYLIGHT
BEGIN:STANDARD
TZOFFSETFROM:+0200
TZOFFSETTO:+0100
TZNAME:CET
DTSTART:20261025T010000
END:STANDARD
END:VTIMEZONE
BEGIN:VEVENT
DTSTART;TZID=Europe/Paris:20250405T110000
DTEND;TZID=Europe/Paris:20250405T110000
DTSTAMP:20260424T151010
CREATED:20250305T214102Z
LAST-MODIFIED:20250314T125552Z
UID:10000879-1743850800-1743850800@15francoallemandeoccitanie.fr
SUMMARY:Visite du Musée Soulages en allemand et en français
DESCRIPTION:Le Musée Soulages à l’architecture contemporaine exceptionnelle a été inauguré en mai 2014 dans la ville natale du grand artiste français. Les généreuses donations de Pierre Soulages et son épouse permettent de découvrir une collection riche et diverse dans un lieu conçu pour elle ! Cette visite guidée sera l’occasion d’aborder également les liens particuliers entre Pierre Soulages et l’Allemagne. Avec Céline Laurière\, guide-conférencière.\nRéservation obligatoire avant le 30/03: accueil-toulouse@goethe.de – Entrée payante.\nRendez-vous à 10h45 au Musée\, entrée payante.\nCrédit photo: © Céline Laurière
URL:https://15francoallemandeoccitanie.fr/evenement/visite-du-musee-soulages-en-allemand/
LOCATION:Musée Soulages\, Avenue Victor Hugo\, Rodez\, 12000
CATEGORIES:Culture,Présentiel
ATTACH;FMTTYPE=image/jpeg:https://15francoallemandeoccitanie.fr/wp-content/uploads/2025/03/2025_04_05_Rodez_Musee-Soulages_cCeline-Lauriere-scaled.jpg
ORGANIZER;CN="Goethe-Institut Toulouse C%C3%A9line Lauri%C3%A8re":MAILTO:stefanie.neubert@goethe.de
GEO:44.3516095;2.5684129
X-APPLE-STRUCTURED-LOCATION;VALUE=URI;X-ADDRESS=Musée Soulages Avenue Victor Hugo Rodez 12000;X-APPLE-RADIUS=500;X-TITLE=Avenue Victor Hugo:geo:2.5684129,44.3516095
END:VEVENT
END:VCALENDAR