BEGIN:VCALENDAR
VERSION:2.0
PRODID:-//Quinzaine franco-allemande - ECPv6.15.20//NONSGML v1.0//EN
CALSCALE:GREGORIAN
METHOD:PUBLISH
X-WR-CALNAME:Quinzaine franco-allemande
X-ORIGINAL-URL:https://15francoallemandeoccitanie.fr
X-WR-CALDESC:Évènements pour Quinzaine franco-allemande
REFRESH-INTERVAL;VALUE=DURATION:PT1H
X-Robots-Tag:noindex
X-PUBLISHED-TTL:PT1H
BEGIN:VTIMEZONE
TZID:Europe/Paris
BEGIN:DAYLIGHT
TZOFFSETFROM:+0100
TZOFFSETTO:+0200
TZNAME:CEST
DTSTART:20230326T010000
END:DAYLIGHT
BEGIN:STANDARD
TZOFFSETFROM:+0200
TZOFFSETTO:+0100
TZNAME:CET
DTSTART:20231029T010000
END:STANDARD
BEGIN:DAYLIGHT
TZOFFSETFROM:+0100
TZOFFSETTO:+0200
TZNAME:CEST
DTSTART:20240331T010000
END:DAYLIGHT
BEGIN:STANDARD
TZOFFSETFROM:+0200
TZOFFSETTO:+0100
TZNAME:CET
DTSTART:20241027T010000
END:STANDARD
BEGIN:DAYLIGHT
TZOFFSETFROM:+0100
TZOFFSETTO:+0200
TZNAME:CEST
DTSTART:20250330T010000
END:DAYLIGHT
BEGIN:STANDARD
TZOFFSETFROM:+0200
TZOFFSETTO:+0100
TZNAME:CET
DTSTART:20251026T010000
END:STANDARD
END:VTIMEZONE
BEGIN:VEVENT
DTSTART;VALUE=DATE:20240309
DTEND;VALUE=DATE:20240310
DTSTAMP:20260420T094114
CREATED:20240225T213622Z
LAST-MODIFIED:20240225T213622Z
UID:10000250-1709942400-1710028799@15francoallemandeoccitanie.fr
SUMMARY:Le Lycée Georges Frêche se met au vert
DESCRIPTION:La loi Anti Gaspillage pour une Economie Circulaire (AGEC) concerne les collectivités ayant pour compétence la gestion des déchets. Celle-ci leur impose en effet de mettre en place à partir de janvier 2024  de nouvelles filières de tri et de collecte et de traitement.\nTous les producteurs de déchets alimentaires devront disposer d’une solution.  \nLe Lycée Georges Frêche a choisi de travailler avec la société « Les Alchimistes » qui récupère leurs bio-déchets. Et …pour bien trier\, il faut informer! \nEn cours d’allemand \, les élèves germanistes des filières Bac technologique STHR et Bac professionnel « Cuisine et Service » ont conçu des affiches en langue allemande pour expliquer ce nouveau tri dans les restaurants. \nCes affiches seront exposées le 9 mars aux « Portes ouvertes » de l’établissement pour promouvoir l’enseignement de l’allemand au Lycée Georges Frêche.
URL:https://15francoallemandeoccitanie.fr/evenement/le-lycee-georges-freche-se-met-au-vert/
LOCATION:Lycée Georges Freche\, 401 rue Le Titien\, Montpellier\, 34000
CATEGORIES:Éducation,Présentiel
ATTACH;FMTTYPE=image/jpeg:https://15francoallemandeoccitanie.fr/wp-content/uploads/2024/02/2024_03_09_lyceegeorgefreche.jpg
GEO:43.6048745;3.9122391
X-APPLE-STRUCTURED-LOCATION;VALUE=URI;X-ADDRESS=Lycée Georges Freche 401 rue Le Titien Montpellier 34000;X-APPLE-RADIUS=500;X-TITLE=401 rue Le Titien:geo:3.9122391,43.6048745
END:VEVENT
END:VCALENDAR