BEGIN:VCALENDAR
VERSION:2.0
PRODID:-//Quinzaine franco-allemande - ECPv6.15.20//NONSGML v1.0//EN
CALSCALE:GREGORIAN
METHOD:PUBLISH
X-WR-CALNAME:Quinzaine franco-allemande
X-ORIGINAL-URL:https://15francoallemandeoccitanie.fr
X-WR-CALDESC:Évènements pour Quinzaine franco-allemande
REFRESH-INTERVAL;VALUE=DURATION:PT1H
X-Robots-Tag:noindex
X-PUBLISHED-TTL:PT1H
BEGIN:VTIMEZONE
TZID:Europe/Paris
BEGIN:DAYLIGHT
TZOFFSETFROM:+0100
TZOFFSETTO:+0200
TZNAME:CEST
DTSTART:20230326T010000
END:DAYLIGHT
BEGIN:STANDARD
TZOFFSETFROM:+0200
TZOFFSETTO:+0100
TZNAME:CET
DTSTART:20231029T010000
END:STANDARD
BEGIN:DAYLIGHT
TZOFFSETFROM:+0100
TZOFFSETTO:+0200
TZNAME:CEST
DTSTART:20240331T010000
END:DAYLIGHT
BEGIN:STANDARD
TZOFFSETFROM:+0200
TZOFFSETTO:+0100
TZNAME:CET
DTSTART:20241027T010000
END:STANDARD
BEGIN:DAYLIGHT
TZOFFSETFROM:+0100
TZOFFSETTO:+0200
TZNAME:CEST
DTSTART:20250330T010000
END:DAYLIGHT
BEGIN:STANDARD
TZOFFSETFROM:+0200
TZOFFSETTO:+0100
TZNAME:CET
DTSTART:20251026T010000
END:STANDARD
END:VTIMEZONE
BEGIN:VEVENT
DTSTART;TZID=Europe/Paris:20240321T080000
DTEND;TZID=Europe/Paris:20240404T170000
DTSTAMP:20260424T200700
CREATED:20240303T170841Z
LAST-MODIFIED:20240303T170841Z
UID:10000319-1711008000-1712250000@15francoallemandeoccitanie.fr
SUMMARY:Les germanistes d'Uzès au cinéma Le Capitole
DESCRIPTION:Les 150 lycéens germanistes de 2de\, 1ère et terminale du Lycée Charles Gide assisteront à une projection du film Das Lehrerzimmer (La salle des profs) d’Ilker Çatak qui permettra de travailler en classe autour des questions de climat scolaire et du vivre ensemble. \nPour les collégiens germanistes d’Uzès\, séance collective autour du film « Das Wunder von Bern » / Le miracle de Bern de Sönke Wortmann.  \nEn 1954\, dans un coron d’Essen du bassin minier de la Ruhr\, Matthias Lubanski\, 11 ans\, attend le retour de son père\, prisonnier en Union soviétique. Matthias vit avec son frère aîné\, militant communiste\, sa soeur et sa mère. Ils travaillent tous les trois dans le bistrot de mineurs familial. Comme des milliers de femmes à cette époque\, la mère de Matthias est devenue chef de famille. Elle s’est endurcie pour défier la guerre\, mais n’a pas perdu son humanité. Quand le père revient de Sibérie après onze ans de captivité\, il est brisé\, mutique et peine à se réadapter à la vie civile. Matthias apprend la vie aux côtés de Helmut Rahn\, une star du football qu’il admire… \nL’étude du film permettra de faire coïncider la riche actualité sportive nationale avec notamment le thème des valeurs véhiculées par la pratique sportive.
URL:https://15francoallemandeoccitanie.fr/evenement/les-germanistes-duzes-au-cinema-le-capitole/
LOCATION:Cinéma Le Capitole\, 11 Rue Xavier Sigalon\, Uzès\, Occitanie\, 30700\, France
CATEGORIES:Citoyenneté,Éducation,Présentiel,Présentiel
ATTACH;FMTTYPE=image/webp:https://15francoallemandeoccitanie.fr/wp-content/uploads/2024/03/Le-Miracle-de-Berne_film.webp
GEO:44.0144503;4.4198366
X-APPLE-STRUCTURED-LOCATION;VALUE=URI;X-ADDRESS=Cinéma Le Capitole 11 Rue Xavier Sigalon Uzès Occitanie 30700 France;X-APPLE-RADIUS=500;X-TITLE=11 Rue Xavier Sigalon:geo:4.4198366,44.0144503
END:VEVENT
END:VCALENDAR