BEGIN:VCALENDAR
VERSION:2.0
PRODID:-//Quinzaine franco-allemande - ECPv6.15.20//NONSGML v1.0//EN
CALSCALE:GREGORIAN
METHOD:PUBLISH
X-WR-CALNAME:Quinzaine franco-allemande
X-ORIGINAL-URL:https://15francoallemandeoccitanie.fr
X-WR-CALDESC:Évènements pour Quinzaine franco-allemande
REFRESH-INTERVAL;VALUE=DURATION:PT1H
X-Robots-Tag:noindex
X-PUBLISHED-TTL:PT1H
BEGIN:VTIMEZONE
TZID:Europe/Paris
BEGIN:DAYLIGHT
TZOFFSETFROM:+0100
TZOFFSETTO:+0200
TZNAME:CEST
DTSTART:20240331T010000
END:DAYLIGHT
BEGIN:STANDARD
TZOFFSETFROM:+0200
TZOFFSETTO:+0100
TZNAME:CET
DTSTART:20241027T010000
END:STANDARD
BEGIN:DAYLIGHT
TZOFFSETFROM:+0100
TZOFFSETTO:+0200
TZNAME:CEST
DTSTART:20250330T010000
END:DAYLIGHT
BEGIN:STANDARD
TZOFFSETFROM:+0200
TZOFFSETTO:+0100
TZNAME:CET
DTSTART:20251026T010000
END:STANDARD
BEGIN:DAYLIGHT
TZOFFSETFROM:+0100
TZOFFSETTO:+0200
TZNAME:CEST
DTSTART:20260329T010000
END:DAYLIGHT
BEGIN:STANDARD
TZOFFSETFROM:+0200
TZOFFSETTO:+0100
TZNAME:CET
DTSTART:20261025T010000
END:STANDARD
END:VTIMEZONE
BEGIN:VEVENT
DTSTART;TZID=Europe/Paris:20250409T183000
DTEND;TZID=Europe/Paris:20250409T183000
DTSTAMP:20260419T180344
CREATED:20250305T143759Z
LAST-MODIFIED:20250314T081832Z
UID:10000493-1744223400-1744223400@15francoallemandeoccitanie.fr
SUMMARY:Ciné-club "Orphea in Love"\, un film de Axel Ranisch (2023)
DESCRIPTION:Projection en VOSTFR dans le cadre de notre ciné-club allemand le 9 avril 2025. 18h30. Maison de Heidelberg\nÀ Munich\, Nele\, une jeune Estonienne passionnée de chant lyrique\, travaille dans un centre d’appel et le soir tient le vestiaire de l’Opéra national. Vivant dans une colocation étudiante\, elle se tient à l’écart et préfère rester seule. Mais un jour\, un jeune pickpocket danseur de rue lui dérobe son portefeuille. Cette rencontre va bouleverser son quotidien morose et lesté d’un tragique secret. Mêlant chant lyrique et danse contemporaine\, Axel Ranisch revisite le mythe d’Orphée et Eurydice.
URL:https://15francoallemandeoccitanie.fr/evenement/cine-club-orphea-in-love-un-film-de-axel-ranisch/
LOCATION:Maison de Heidelberg\, 4 rueTrésoriers de la Bourse\, Montpellier\, 34000\, France
CATEGORIES:Culture,Présentiel
ATTACH;FMTTYPE=image/jpeg:https://15francoallemandeoccitanie.fr/wp-content/uploads/2025/03/2025_04_09_Orphea_01.jpg
GEO:43.610022;3.8757307
X-APPLE-STRUCTURED-LOCATION;VALUE=URI;X-ADDRESS=Maison de Heidelberg 4 rueTrésoriers de la Bourse Montpellier 34000 France;X-APPLE-RADIUS=500;X-TITLE=4 rueTrésoriers de la Bourse:geo:3.8757307,43.610022
END:VEVENT
END:VCALENDAR