BEGIN:VCALENDAR
VERSION:2.0
PRODID:-//Quinzaine franco-allemande - ECPv6.15.20//NONSGML v1.0//EN
CALSCALE:GREGORIAN
METHOD:PUBLISH
X-WR-CALNAME:Quinzaine franco-allemande
X-ORIGINAL-URL:https://15francoallemandeoccitanie.fr
X-WR-CALDESC:Évènements pour Quinzaine franco-allemande
REFRESH-INTERVAL;VALUE=DURATION:PT1H
X-Robots-Tag:noindex
X-PUBLISHED-TTL:PT1H
BEGIN:VTIMEZONE
TZID:Europe/Paris
BEGIN:DAYLIGHT
TZOFFSETFROM:+0100
TZOFFSETTO:+0200
TZNAME:CEST
DTSTART:20220327T010000
END:DAYLIGHT
BEGIN:STANDARD
TZOFFSETFROM:+0200
TZOFFSETTO:+0100
TZNAME:CET
DTSTART:20221030T010000
END:STANDARD
BEGIN:DAYLIGHT
TZOFFSETFROM:+0100
TZOFFSETTO:+0200
TZNAME:CEST
DTSTART:20230326T010000
END:DAYLIGHT
BEGIN:STANDARD
TZOFFSETFROM:+0200
TZOFFSETTO:+0100
TZNAME:CET
DTSTART:20231029T010000
END:STANDARD
BEGIN:DAYLIGHT
TZOFFSETFROM:+0100
TZOFFSETTO:+0200
TZNAME:CEST
DTSTART:20240331T010000
END:DAYLIGHT
BEGIN:STANDARD
TZOFFSETFROM:+0200
TZOFFSETTO:+0100
TZNAME:CET
DTSTART:20241027T010000
END:STANDARD
END:VTIMEZONE
BEGIN:VEVENT
DTSTART;TZID=Europe/Paris:20230509T160000
DTEND;TZID=Europe/Paris:20230509T193000
DTSTAMP:20260420T112443
CREATED:20230505T142615Z
LAST-MODIFIED:20230505T142615Z
UID:10000223-1683648000-1683660600@15francoallemandeoccitanie.fr
SUMMARY:La journée de l'Europe
DESCRIPTION:A l’occasion de la Journée de L’Europe\, la Maison de l’Europe du Tarn organise deux séquences: \n  \n\n16h00 – 17h45 : Partage d’expériences de jeunes dans le cadre Européen.\n\n  \n\n18h00 – 19h30 : Conférence « L’UE et la jeunesse : évaluation et perspectives » présentée par Valerie Drezet-Humez\, cheffe de la représentation de la Commission Européenne en France.\n\n 
URL:https://15francoallemandeoccitanie.fr/evenement/la-journee-de-leurope/
LOCATION:INU Champollion ALbi\, Pl. de Verdun\, 81000 Albi\, Albi\, Occitanie\, 81000
CATEGORIES:Citoyenneté,Éducation,Présentiel,Présentiel
ATTACH;FMTTYPE=image/jpeg:https://15francoallemandeoccitanie.fr/wp-content/uploads/2023/05/journee-de-lEurope.jpg
GEO:43.9200506;2.1393537
X-APPLE-STRUCTURED-LOCATION;VALUE=URI;X-ADDRESS=INU Champollion ALbi Pl. de Verdun 81000 Albi Albi Occitanie 81000;X-APPLE-RADIUS=500;X-TITLE=Pl. de Verdun\, 81000 Albi:geo:2.1393537,43.9200506
END:VEVENT
END:VCALENDAR