BEGIN:VCALENDAR
VERSION:2.0
PRODID:-//Quinzaine franco-allemande - ECPv6.15.20//NONSGML v1.0//EN
CALSCALE:GREGORIAN
METHOD:PUBLISH
X-WR-CALNAME:Quinzaine franco-allemande
X-ORIGINAL-URL:https://15francoallemandeoccitanie.fr
X-WR-CALDESC:Évènements pour Quinzaine franco-allemande
REFRESH-INTERVAL;VALUE=DURATION:PT1H
X-Robots-Tag:noindex
X-PUBLISHED-TTL:PT1H
BEGIN:VTIMEZONE
TZID:Europe/Paris
BEGIN:DAYLIGHT
TZOFFSETFROM:+0100
TZOFFSETTO:+0200
TZNAME:CEST
DTSTART:20220327T010000
END:DAYLIGHT
BEGIN:STANDARD
TZOFFSETFROM:+0200
TZOFFSETTO:+0100
TZNAME:CET
DTSTART:20221030T010000
END:STANDARD
BEGIN:DAYLIGHT
TZOFFSETFROM:+0100
TZOFFSETTO:+0200
TZNAME:CEST
DTSTART:20230326T010000
END:DAYLIGHT
BEGIN:STANDARD
TZOFFSETFROM:+0200
TZOFFSETTO:+0100
TZNAME:CET
DTSTART:20231029T010000
END:STANDARD
BEGIN:DAYLIGHT
TZOFFSETFROM:+0100
TZOFFSETTO:+0200
TZNAME:CEST
DTSTART:20240331T010000
END:DAYLIGHT
BEGIN:STANDARD
TZOFFSETFROM:+0200
TZOFFSETTO:+0100
TZNAME:CET
DTSTART:20241027T010000
END:STANDARD
BEGIN:DAYLIGHT
TZOFFSETFROM:+0100
TZOFFSETTO:+0200
TZNAME:CEST
DTSTART:20250330T010000
END:DAYLIGHT
BEGIN:STANDARD
TZOFFSETFROM:+0200
TZOFFSETTO:+0100
TZNAME:CET
DTSTART:20251026T010000
END:STANDARD
BEGIN:DAYLIGHT
TZOFFSETFROM:+0100
TZOFFSETTO:+0200
TZNAME:CEST
DTSTART:20260329T010000
END:DAYLIGHT
BEGIN:STANDARD
TZOFFSETFROM:+0200
TZOFFSETTO:+0100
TZNAME:CET
DTSTART:20261025T010000
END:STANDARD
END:VTIMEZONE
BEGIN:VEVENT
DTSTART;TZID=Europe/Paris:20250331T170000
DTEND;TZID=Europe/Paris:20250331T190000
DTSTAMP:20260424T172123
CREATED:20250321T162600Z
LAST-MODIFIED:20250321T162639Z
UID:10000941-1743440400-1743447600@15francoallemandeoccitanie.fr
SUMMARY:Amic'allemand - les liens franco-allemands dans le Gard
DESCRIPTION:Un temps d’échange\, de découverte puis de convivialité (avec les élèves 14.00-16.00 puis le grand public 17.00-19.00) pour mieux connaître:\n– les différentes coopérations entre la France et l’Allemagne\n– les liens entre l’Allemagne et nos territoires gardois \n1ère partie : A l’attention des scolaires\n14h Accueil :\n• Région Occitanie / Quinzaine franco-allemande / Maison de l’Europe\n• Connaissons-nous l’Allemagne?\n14h30 La coopération éducative :\n• Présentation d’échanges par des lycées Jean Baptiste Dumas et La Salle\n• Présentation du programme Brigitte Sauzay par des volontaires allemands du programme OFAJ\n15h00 La coopération économique par des entreprises locales ayant des filiales en Allemagne (sous réserve)\n15h45 Goûter \n2ème partie : Pour toutes et tous\n17h00 Accueil\n17h15 La coopération de la société civile :\n• Le fonds citoyen : Un outil pour faire vivre les échanges franco-allemands\n• Présentation des projets des comités de jumelages franco-allemands d’Alès agglomération\n17h30 La coopération économique par des entreprises locales ayant des filiales en Allemagne (sous réserve)\n18h00 Fête franco-allemande\n• Apéritif allemand & animation musicale
URL:https://15francoallemandeoccitanie.fr/evenement/amicallemand-les-liens-franco-allemands-dans-le-gard/
LOCATION:Maison de Ma Région Alès\, 6 place des Martyrs\, Alès\, 30100
CATEGORIES:Citoyenneté,Convivialité,Culture,Économie,Éducation,Jeunesse,Présentiel,Présentiel,Présentiel,Présentiel
ATTACH;FMTTYPE=image/jpeg:https://15francoallemandeoccitanie.fr/wp-content/uploads/2025/03/2025_03_31_Franco-allemand-Cevennes_MDR-Ales-1.jpg
GEO:44.1260507;4.0786849
X-APPLE-STRUCTURED-LOCATION;VALUE=URI;X-ADDRESS=Maison de Ma Région Alès 6 place des Martyrs Alès 30100;X-APPLE-RADIUS=500;X-TITLE=6 place des Martyrs:geo:4.0786849,44.1260507
END:VEVENT
BEGIN:VEVENT
DTSTART;TZID=Europe/Paris:20230404T140000
DTEND;TZID=Europe/Paris:20230421T190000
DTSTAMP:20260424T172123
CREATED:20230307T133231Z
LAST-MODIFIED:20230407T141154Z
UID:10000113-1680616800-1682103600@15francoallemandeoccitanie.fr
SUMMARY:Exposition « L’Allemagne\, un portrait »
DESCRIPTION:Dans le cadre de la quinzaine franco-allemande impulsée par la Région Occitanie Pyrénées Méditerranée\, et ses partenaires\, la Maison de Ma région d’Alès et des acteurs alésiens proposent plusieurs animations du 3 au 21 avril :\n\n\n\nDu 4 au 21 avril aux Archives municipales de la ville d’Alès :\nExposition “Allemagne\, un portrait”\nDu Mardi au Vendredi de 14h à 18h (pour les scolaires sur réservation au 04 67 17 88 30)\n\n\nLe 5 avril à 17h30 aux Archives municipales de la ville d’’Alès\n« De part et d’autre du Rhin » animé par Michael Stange\, directeur de la Maison de l’Europe de Nîmes – Centre Europe Direct.\nVernissage et lancement de la quinzaine avec\, dans le cadre des 60 ans du Traité de l’Elysée et de l’amitié franco-allemande\, une présentation de l’actualité et des dispositifs qui font vivre le couple franco-allemand et un Quiz interactif pour mieux connaître l’Allemagne.\n\n\nLe vendredi 14 avril à 19h à la cave Papilles au nez\nDégustation de vins allemands et vernissage de l’exposition des œuvres de Julia Kaulbach\, artiste peintre en lien avec l’association Chemins d’art. L’exposition sera visible du 3 au 21 avril à la cave Papilles au nez.\n\n\nLe samedi 15 avril de 10h à 11h30 à la Médiathèque Alphonse Daudet d’Alès \nCafé voyageurs : Destination Allemagne\, venez partager vos bons plans pour visiter l’Allemagne.\n\nDu 21 au 23 Avril : Randonnée sur les pas de Stevenson et des CamisardsOrganisée par le FIRA\, Sur le chemin de Stevenson\, Sur les pas des Huguenots\, Cévennes Tourisme et s’inscrivant dans les Itinéraires Culturels Européens (ICE). Informations et réservation auprès du FIRA : lefira@orange.fr\n\n\nPour plus d’informations\, merci de consulter le site internet
URL:https://15francoallemandeoccitanie.fr/evenement/exposition-lallemagne-un-portrait/
LOCATION:Archives Municipales Alès\, 4\, boulevard Gambetta\, ALES\, ALES\, 30100\, France
CATEGORIES:Présentiel
ATTACH;FMTTYPE=image/jpeg:https://15francoallemandeoccitanie.fr/wp-content/uploads/2023/03/MMR_ALES_EXPO_PHOTOS_ALLEMAGNE_COUV-FB.jpg
ORGANIZER;CN="Maison de Ma R%C3%A9gion Al%C3%A8s":MAILTO:maisonregion.ales@laregion.fr
GEO:44.1217596;4.0849988
X-APPLE-STRUCTURED-LOCATION;VALUE=URI;X-ADDRESS=Archives Municipales Alès 4 boulevard Gambetta ALES ALES 30100 France;X-APPLE-RADIUS=500;X-TITLE=4\, boulevard Gambetta:geo:4.0849988,44.1217596
END:VEVENT
END:VCALENDAR