BEGIN:VCALENDAR
VERSION:2.0
PRODID:-//Quinzaine franco-allemande - ECPv6.15.20//NONSGML v1.0//EN
CALSCALE:GREGORIAN
METHOD:PUBLISH
X-ORIGINAL-URL:https://15francoallemandeoccitanie.fr
X-WR-CALDESC:Évènements pour Quinzaine franco-allemande
REFRESH-INTERVAL;VALUE=DURATION:PT1H
X-Robots-Tag:noindex
X-PUBLISHED-TTL:PT1H
BEGIN:VTIMEZONE
TZID:Europe/Paris
BEGIN:DAYLIGHT
TZOFFSETFROM:+0100
TZOFFSETTO:+0200
TZNAME:CEST
DTSTART:20220327T010000
END:DAYLIGHT
BEGIN:STANDARD
TZOFFSETFROM:+0200
TZOFFSETTO:+0100
TZNAME:CET
DTSTART:20221030T010000
END:STANDARD
BEGIN:DAYLIGHT
TZOFFSETFROM:+0100
TZOFFSETTO:+0200
TZNAME:CEST
DTSTART:20230326T010000
END:DAYLIGHT
BEGIN:STANDARD
TZOFFSETFROM:+0200
TZOFFSETTO:+0100
TZNAME:CET
DTSTART:20231029T010000
END:STANDARD
BEGIN:DAYLIGHT
TZOFFSETFROM:+0100
TZOFFSETTO:+0200
TZNAME:CEST
DTSTART:20240331T010000
END:DAYLIGHT
BEGIN:STANDARD
TZOFFSETFROM:+0200
TZOFFSETTO:+0100
TZNAME:CET
DTSTART:20241027T010000
END:STANDARD
BEGIN:DAYLIGHT
TZOFFSETFROM:+0100
TZOFFSETTO:+0200
TZNAME:CEST
DTSTART:20250330T010000
END:DAYLIGHT
BEGIN:STANDARD
TZOFFSETFROM:+0200
TZOFFSETTO:+0100
TZNAME:CET
DTSTART:20251026T010000
END:STANDARD
BEGIN:DAYLIGHT
TZOFFSETFROM:+0100
TZOFFSETTO:+0200
TZNAME:CEST
DTSTART:20260329T010000
END:DAYLIGHT
BEGIN:STANDARD
TZOFFSETFROM:+0200
TZOFFSETTO:+0100
TZNAME:CET
DTSTART:20261025T010000
END:STANDARD
BEGIN:DAYLIGHT
TZOFFSETFROM:+0100
TZOFFSETTO:+0200
TZNAME:CEST
DTSTART:20270328T010000
END:DAYLIGHT
BEGIN:STANDARD
TZOFFSETFROM:+0200
TZOFFSETTO:+0100
TZNAME:CET
DTSTART:20271031T010000
END:STANDARD
END:VTIMEZONE
BEGIN:VEVENT
DTSTART;TZID=Europe/Paris:20260410T100000
DTEND;TZID=Europe/Paris:20260410T100000
DTSTAMP:20260419T181427
CREATED:20260302T184609Z
LAST-MODIFIED:20260323T091317Z
UID:10001111-1775815200-1775815200@15francoallemandeoccitanie.fr
SUMMARY:L’Allemagne s’invite à la Médiathèque
DESCRIPTION:La médiathèque Alphonse Daudet accueille une exposition présentant les productions des élèves germanistes de 6e et 5e des collèges Alphonse Daudet\, Jean Racine et Jean Moulin et intituléee « Ce qui me plait en Allemagne\, en Autriche et en Suisse ». Cette initiative sera l’occasion de découvrir des stands thématiques sur la culture allemande\, de proposer une visite guidée de l’exposition ainsi qu’une chasse au trésor sur la culture allemande. Afin de ne pas oublier des domaines essentiels dans lesquels l’Allemagne s’illustre brillamment hier comme aujourd’hui\, les visiteurs pourrront écouter des extraits de musiques allemandes et assister à la projection d’un film allemand dans la salle cinéma de la médiathèque.
URL:https://15francoallemandeoccitanie.fr/evenement/lallemagne-sinvite-a-la-mediatheque-2/
LOCATION:Médiathèque Alphonse Daudet\, 24 Rue Edgard Quinet\, Alès\, Occitanie\, 30100\, France
CATEGORIES:Citoyenneté,Culture,Éducation,Éducation Jeunesse,Jeunesse,Présentiel,Présentiel,Présentiel
ATTACH;FMTTYPE=image/jpeg:https://15francoallemandeoccitanie.fr/wp-content/uploads/2026/03/2026_04_10_Mediatheque_Ales-scaled-e1774257183689.jpg
GEO:44.1244296;4.0829174
X-APPLE-STRUCTURED-LOCATION;VALUE=URI;X-ADDRESS=Médiathèque Alphonse Daudet 24 Rue Edgard Quinet Alès Occitanie 30100 France;X-APPLE-RADIUS=500;X-TITLE=24 Rue Edgard Quinet:geo:4.0829174,44.1244296
END:VEVENT
BEGIN:VEVENT
DTSTART;TZID=Europe/Paris:20230415T100000
DTEND;TZID=Europe/Paris:20230415T113000
DTSTAMP:20260419T181427
CREATED:20230413T184703Z
LAST-MODIFIED:20230413T184703Z
UID:10000214-1681552800-1681558200@15francoallemandeoccitanie.fr
SUMMARY:Café voyageurs : Destination Allemagne
DESCRIPTION:Dans le cadre de la quinzaine franco-allemande impulsée par la Région Occitanie\, l’Ambassade de la république fédérale d’Allemagne\, la fondation groupe Dépêche et l’association Allemagne-Occitanie\, nous vous proposons de venir partager vos bons plans pour visiter l’Allemagne lors d’un café voyageurs à la Médiathèque Alphonse Daudet. \nEn savoir plus\nsur le programme Expo\, dégustations\, randonnées… à Alès dans le cadre de la Quinzaine franco-allemande en Occitanie
URL:https://15francoallemandeoccitanie.fr/evenement/cafe-voyageurs-destination-allemagne/
LOCATION:Médiathèque Alphonse Daudet\, 24 Rue Edgard Quinet\, Alès\, Occitanie\, 30100\, France
CATEGORIES:Présentiel
ATTACH;FMTTYPE=image/jpeg:https://15francoallemandeoccitanie.fr/wp-content/uploads/2023/04/cafe-voyageurs-v2.jpg
GEO:44.1244296;4.0829174
X-APPLE-STRUCTURED-LOCATION;VALUE=URI;X-ADDRESS=Médiathèque Alphonse Daudet 24 Rue Edgard Quinet Alès Occitanie 30100 France;X-APPLE-RADIUS=500;X-TITLE=24 Rue Edgard Quinet:geo:4.0829174,44.1244296
END:VEVENT
END:VCALENDAR