BEGIN:VCALENDAR
VERSION:2.0
PRODID:-//Quinzaine franco-allemande - ECPv6.15.20//NONSGML v1.0//EN
CALSCALE:GREGORIAN
METHOD:PUBLISH
X-WR-CALNAME:Quinzaine franco-allemande
X-ORIGINAL-URL:https://15francoallemandeoccitanie.fr
X-WR-CALDESC:Évènements pour Quinzaine franco-allemande
REFRESH-INTERVAL;VALUE=DURATION:PT1H
X-Robots-Tag:noindex
X-PUBLISHED-TTL:PT1H
BEGIN:VTIMEZONE
TZID:Europe/Paris
BEGIN:DAYLIGHT
TZOFFSETFROM:+0100
TZOFFSETTO:+0200
TZNAME:CEST
DTSTART:20230326T010000
END:DAYLIGHT
BEGIN:STANDARD
TZOFFSETFROM:+0200
TZOFFSETTO:+0100
TZNAME:CET
DTSTART:20231029T010000
END:STANDARD
BEGIN:DAYLIGHT
TZOFFSETFROM:+0100
TZOFFSETTO:+0200
TZNAME:CEST
DTSTART:20240331T010000
END:DAYLIGHT
BEGIN:STANDARD
TZOFFSETFROM:+0200
TZOFFSETTO:+0100
TZNAME:CET
DTSTART:20241027T010000
END:STANDARD
BEGIN:DAYLIGHT
TZOFFSETFROM:+0100
TZOFFSETTO:+0200
TZNAME:CEST
DTSTART:20250330T010000
END:DAYLIGHT
BEGIN:STANDARD
TZOFFSETFROM:+0200
TZOFFSETTO:+0100
TZNAME:CET
DTSTART:20251026T010000
END:STANDARD
END:VTIMEZONE
BEGIN:VEVENT
DTSTART;TZID=Europe/Paris:20240302T080000
DTEND;TZID=Europe/Paris:20240323T170000
DTSTAMP:20260424T211928
CREATED:20240206T080016Z
LAST-MODIFIED:20240206T080016Z
UID:10000231-1709366400-1711213200@15francoallemandeoccitanie.fr
SUMMARY:Echange protandem Dresde- Muret
DESCRIPTION:En  2019 \, un premier échange avait été réalisé avec les étudiants Bac Pro TFCA entre le Lycée Charles de Gaulle de Muret près de Toulouse et les apprentis de l’école de Froid de la Saxe. \nDans le cadre de l’échange Protandem\, 8 élèves de terminale en froid climatisation du lycée Charles de Gaulle de Muret\, vont passer trois semaines cette année à Dresde. La première semaine est consacrée à la découverte de la culture allemande\, au renforcement linguistique et aux visites. Les deux semaines suivantes sont destinées aux stages dans des entreprises allemandes. \nPour l’heure\, les élèves et enseignants français se disent très enthousiastes de rejoindre l’Allemagne où leurs hôtes ont hâte de leur faire découvrir leur pays. 
URL:https://15francoallemandeoccitanie.fr/evenement/echange-protandem-dresde-muret/
LOCATION:Dresde\, Saxe\, Germany
CATEGORIES:Éducation,Présentiel
ATTACH;FMTTYPE=image/png:https://15francoallemandeoccitanie.fr/wp-content/uploads/2023/12/images.png
ORGANIZER;CN="Pro Tandem":MAILTO:info@protandem.org
GEO:51.165691;10.451526
END:VEVENT
END:VCALENDAR