BEGIN:VCALENDAR
VERSION:2.0
PRODID:-//Quinzaine franco-allemande - ECPv6.15.20//NONSGML v1.0//EN
CALSCALE:GREGORIAN
METHOD:PUBLISH
X-ORIGINAL-URL:https://15francoallemandeoccitanie.fr
X-WR-CALDESC:Évènements pour Quinzaine franco-allemande
REFRESH-INTERVAL;VALUE=DURATION:PT1H
X-Robots-Tag:noindex
X-PUBLISHED-TTL:PT1H
BEGIN:VTIMEZONE
TZID:Europe/Paris
BEGIN:DAYLIGHT
TZOFFSETFROM:+0100
TZOFFSETTO:+0200
TZNAME:CEST
DTSTART:20240331T010000
END:DAYLIGHT
BEGIN:STANDARD
TZOFFSETFROM:+0200
TZOFFSETTO:+0100
TZNAME:CET
DTSTART:20241027T010000
END:STANDARD
BEGIN:DAYLIGHT
TZOFFSETFROM:+0100
TZOFFSETTO:+0200
TZNAME:CEST
DTSTART:20250330T010000
END:DAYLIGHT
BEGIN:STANDARD
TZOFFSETFROM:+0200
TZOFFSETTO:+0100
TZNAME:CET
DTSTART:20251026T010000
END:STANDARD
BEGIN:DAYLIGHT
TZOFFSETFROM:+0100
TZOFFSETTO:+0200
TZNAME:CEST
DTSTART:20260329T010000
END:DAYLIGHT
BEGIN:STANDARD
TZOFFSETFROM:+0200
TZOFFSETTO:+0100
TZNAME:CET
DTSTART:20261025T010000
END:STANDARD
END:VTIMEZONE
BEGIN:VEVENT
DTSTART;TZID=Europe/Paris:20250408T140000
DTEND;TZID=Europe/Paris:20250408T160000
DTSTAMP:20260419T235509
CREATED:20250305T163652Z
LAST-MODIFIED:20250305T195831Z
UID:10000499-1744120800-1744128000@15francoallemandeoccitanie.fr
SUMMARY:Présentation par France Travail des dispositifs d'accompagnement à la mobilité vers l'Allemagne
DESCRIPTION:Dans le cadre de l’organisation de la Quinzaine franco-allemande\, nous prévoyons une conférence professionnelle destinée aux étudiants de Master afin de les informer sur les possibilités et pistes professionnelles qui s’offrent a eux.\nL’événement se déroulera en présentiel et en distanciel à l’Université Paul Valéry et s’adresse aux étudiants de Master 2 .\nLes intervenants seront:\n– Catherine ARISO\, chargée de mission coopération Allemagne-Occitanie et représentante de la région\, qui parlera de la Quinzaine franco-allemande et de ses missions en Allemagne\n– Jean-Pierre Feuillet\, consultant Franco-Allemand qui interviendra sur la thématique “Vivre en Allemagne”.\n– Le Service affaires et relations internationales de France Travail Occitanie\, qui animera le programme Erasmus+ et inclura une représentante de l’équipe de mobilité internationale France Travail\nRéservé aux étudiants de l’Université Paul Valéry
URL:https://15francoallemandeoccitanie.fr/evenement/presentation-par-france-travail-des-dispositifs-daccompagnement-a-la-mobilite-vers-lallemagne/
LOCATION:Université Paul Valéry Montpellier + en digital
CATEGORIES:Distanciel,Économie,Présentiel
END:VEVENT
END:VCALENDAR